BEGIN:VCALENDAR
VERSION:2.0
PRODID:-//Pfarrei Galgenen//NONSGML kigkonsult.se iCalcreator 2.16.12//
METHOD:PUBLISH
X-MS-OLK-FORCEINSPECTOROPEN:TRUE
BEGIN:VEVENT
UID:20260420T105418CEST-0849BSA2t6@Pfarrei Galgenen
DTSTAMP:20260420T085418Z
DESCRIPTION:In der Pfarrkirche St. Martin findet die alljährliche Generalve
 rsammlung der Kirchgemeinde Galgenen statt.\nZu Beginn stimmt der Kirchenc
 hor auf die Versammlung ein. Alle Interessierten sind herzlich eingeladen.
 \n 
DTSTART:20231120T200000
DTEND:20231120T210000
ORGANIZER:MAILTO:Pfarrei Galgenen <sekretariat@kg-galgenen.ch>
SUMMARY:Kirchgemeinde Versammlung 
END:VEVENT
END:VCALENDAR
