BEGIN:VCALENDAR
VERSION:2.0
PRODID:-//Pfarrei Galgenen//NONSGML kigkonsult.se iCalcreator 2.16.12//
METHOD:PUBLISH
X-MS-OLK-FORCEINSPECTOROPEN:TRUE
BEGIN:VEVENT
UID:20260420T111239CEST-2994DtScEx@Pfarrei Galgenen
DTSTAMP:20260420T091239Z
DESCRIPTION:Familiengottesdienst\nIn diesem Gottesdienst werden die Firmlin
 ge von 2024 vorgestellt.\nAnschliessend wird im Martins-Träff ein „Chiläka
 fi“ geführt.\n\n 
DTSTART:20231126T093000
DTEND:20231126T103000
ORGANIZER:MAILTO:Pfarrei Galgenen <sekretariat@kg-galgenen.ch>
SUMMARY:Vorstellungs-Gottesdienst der Firmanden
END:VEVENT
END:VCALENDAR
