BEGIN:VCALENDAR
VERSION:2.0
PRODID:-//Pfarrei Galgenen//NONSGML kigkonsult.se iCalcreator 2.16.12//
METHOD:PUBLISH
X-MS-OLK-FORCEINSPECTOROPEN:TRUE
BEGIN:VEVENT
UID:20260420T111340CEST-6554cLhUCV@Pfarrei Galgenen
DTSTAMP:20260420T091340Z
DESCRIPTION:Adventskonzert des Musikvereins Galgenen\, in der Pfarrkirche S
 t. Martin\n 
DTSTART:20231203T170000
DTEND:20231203T190000
ORGANIZER:MAILTO:Pfarrei Galgenen <sekretariat@kg-galgenen.ch>
SUMMARY:Adventskonzert des Musikverein Galgenen
END:VEVENT
END:VCALENDAR
