BEGIN:VCALENDAR
VERSION:2.0
PRODID:-//Pfarrei Galgenen//NONSGML kigkonsult.se iCalcreator 2.16.12//
METHOD:PUBLISH
X-MS-OLK-FORCEINSPECTOROPEN:TRUE
BEGIN:VEVENT
UID:20260420T111250CEST-6041WCh82E@Pfarrei Galgenen
DTSTAMP:20260420T091250Z
DESCRIPTION:Gottesdienst zum Hochfest Mariä Empfängnis\n 
DTSTART:20231208T120000
DTEND:20231208T123000
ORGANIZER:MAILTO:Pfarrei Galgenen <sekretariat@kg-galgenen.ch>
SUMMARY:Hochfest
END:VEVENT
END:VCALENDAR
