BEGIN:VCALENDAR
VERSION:2.0
PRODID:-//Pfarrei Galgenen//NONSGML kigkonsult.se iCalcreator 2.16.12//
METHOD:PUBLISH
X-MS-OLK-FORCEINSPECTOROPEN:TRUE
BEGIN:VEVENT
UID:20260420T110952CEST-6572ghAHWv@Pfarrei Galgenen
DTSTAMP:20260420T090952Z
DESCRIPTION:Rorate-Gottesdienst mit den 4. und 5. Klassen in der Pfarrkirch
 e.\nAnschliessend kleines Frühstück im Martins-Träff.\nKein Gottesdienst u
 m 9.30 Uhr!\n 
DTSTART:20231213T063000
DTEND:20231213T073000
ORGANIZER:MAILTO:Pfarrei Galgenen <sekretariat@kg-galgenen.ch>
SUMMARY:Rorate-Gottesdienst 
END:VEVENT
END:VCALENDAR
