BEGIN:VCALENDAR
VERSION:2.0
PRODID:-//Pfarrei Galgenen//NONSGML kigkonsult.se iCalcreator 2.16.12//
METHOD:PUBLISH
X-MS-OLK-FORCEINSPECTOROPEN:TRUE
BEGIN:VEVENT
UID:20260420T111237CEST-5248zMeEU2@Pfarrei Galgenen
DTSTAMP:20260420T091237Z
DESCRIPTION:Wir werden am Dienstagabend (19. Dezember) das Friedenslicht vo
 n Lachen nach Galgenen in die Pfarrkirche bringen.\nAb Mittwochmorgen kann
  das Licht von der Pfarrkirche nach Hause geholt werden.\n 
DTSTART:20231220T000000
DTEND:20231220T000000
ORGANIZER:MAILTO:Pfarrei Galgenen <sekretariat@kg-galgenen.ch>
SUMMARY:Friedenslicht in der Pfarrkirche Galgenen
END:VEVENT
END:VCALENDAR
