BEGIN:VCALENDAR
VERSION:2.0
PRODID:-//Pfarrei Galgenen//NONSGML kigkonsult.se iCalcreator 2.16.12//
METHOD:PUBLISH
X-MS-OLK-FORCEINSPECTOROPEN:TRUE
BEGIN:VEVENT
UID:20260420T111425CEST-24299x8NLL@Pfarrei Galgenen
DTSTAMP:20260420T091425Z
DESCRIPTION:Familienfeier mit Kommunion.\nDie Schülerinnen und Schülern der
  4. Klassen führen das Krippenspiel auf.\n 
DTSTART:20231224T160000
DTEND:20231224T170000
ORGANIZER:MAILTO:Pfarrei Galgenen <sekretariat@kg-galgenen.ch>
SUMMARY:Heilig Abend\, Krippenspiel 
END:VEVENT
END:VCALENDAR
