BEGIN:VCALENDAR
VERSION:2.0
PRODID:-//Pfarrei Galgenen//NONSGML kigkonsult.se iCalcreator 2.16.12//
METHOD:PUBLISH
X-MS-OLK-FORCEINSPECTOROPEN:TRUE
BEGIN:VEVENT
UID:20260420T111417CEST-94907lMfmP@Pfarrei Galgenen
DTSTAMP:20260420T091417Z
DESCRIPTION:Weihnachtsgottesdienst\, musikalisch begleitet von\nUrban Huber
  an der Klarinette und Andreas Diethelm an der Orgel.\n 
DTSTART:20231224T180000
DTEND:20231224T190000
ORGANIZER:MAILTO:Pfarrei Galgenen <sekretariat@kg-galgenen.ch>
SUMMARY:Heilig Abend\, Weihnachtsgottesdienst  
END:VEVENT
END:VCALENDAR
