BEGIN:VCALENDAR
VERSION:2.0
PRODID:-//Pfarrei Galgenen//NONSGML kigkonsult.se iCalcreator 2.16.12//
METHOD:PUBLISH
X-MS-OLK-FORCEINSPECTOROPEN:TRUE
BEGIN:VEVENT
UID:20260420T111041CEST-4567c4TZur@Pfarrei Galgenen
DTSTAMP:20260420T091041Z
DESCRIPTION:Festgottesdienst\, musikalisch begleitet vom Kirchenchor.\n 
DTSTART:20231225T093000
DTEND:20231225T103000
ORGANIZER:MAILTO:Pfarrei Galgenen <sekretariat@kg-galgenen.ch>
SUMMARY:Weihnachtsgottesdienst mit dem Kirchenchor 
END:VEVENT
END:VCALENDAR
