BEGIN:VCALENDAR
VERSION:2.0
PRODID:-//Pfarrei Galgenen//NONSGML kigkonsult.se iCalcreator 2.16.12//
METHOD:PUBLISH
X-MS-OLK-FORCEINSPECTOROPEN:TRUE
BEGIN:VEVENT
UID:20260420T111207CEST-2724RNUaUg@Pfarrei Galgenen
DTSTAMP:20260420T091207Z
DESCRIPTION:Gottesdienst mit Pfr. Heinz Fleischmann\,\nmusikalisch begleite
 t von Urban Huber an der Klarinette und Andreas Diethelm an der Orgel\n\n 
DTSTART:20231226T093000
DTEND:20231226T103000
ORGANIZER:MAILTO:Pfarrei Galgenen <sekretariat@kg-galgenen.ch>
SUMMARY:Stephanstag
END:VEVENT
END:VCALENDAR
