BEGIN:VCALENDAR
VERSION:2.0
PRODID:-//Pfarrei Galgenen//NONSGML kigkonsult.se iCalcreator 2.16.12//
METHOD:PUBLISH
X-MS-OLK-FORCEINSPECTOROPEN:TRUE
BEGIN:VEVENT
UID:20260420T111341CEST-6941u9gW3i@Pfarrei Galgenen
DTSTAMP:20260420T091341Z
DESCRIPTION: 09.30 Uhr KEIN Gottesdienst!\n um 17.00 Uhr Festgottesdienst\,
  der Kirchenchor begleitet diese Feier musikalisch.\n 
DTSTART:20240101T170000
DTEND:20240101T180000
ORGANIZER:MAILTO:Pfarrei Galgenen <sekretariat@kg-galgenen.ch>
SUMMARY:Neujahr Weltfriedenstag 
END:VEVENT
END:VCALENDAR
