BEGIN:VCALENDAR
VERSION:2.0
PRODID:-//Pfarrei Galgenen//NONSGML kigkonsult.se iCalcreator 2.16.12//
METHOD:PUBLISH
X-MS-OLK-FORCEINSPECTOROPEN:TRUE
BEGIN:VEVENT
UID:20260420T111244CEST-4178eZwVAG@Pfarrei Galgenen
DTSTAMP:20260420T091244Z
DESCRIPTION:Festgottesdienst zum Dreikönigstag\n 
DTSTART:20240106T093000
DTEND:20240106T103000
ORGANIZER:MAILTO:Pfarrei Galgenen <sekretariat@kg-galgenen.ch>
SUMMARY:Erscheinung des Herrn 
END:VEVENT
END:VCALENDAR
