BEGIN:VCALENDAR
VERSION:2.0
PRODID:-//Pfarrei Galgenen//NONSGML kigkonsult.se iCalcreator 2.16.12//
METHOD:PUBLISH
X-MS-OLK-FORCEINSPECTOROPEN:TRUE
BEGIN:VEVENT
UID:20260420T111244CEST-99249C2JuN@Pfarrei Galgenen
DTSTAMP:20260420T091244Z
DESCRIPTION:In diesem Jahr führen wir in Galgenen den Suppentag an zwei res
 pektive vier Tagen durch.\n\nAm Donnerstag\, 15. und Freitag\, 16. Februar
  werden unsere Katechetinnen mit den Kindern der 3. bis 6. Klassen ein Sup
 penzmittag zu Gunsten Fastenaktion durchführen (Buchstabensuppe\, Brot\, W
 ienerli\, Waser\, Sirup\, Kaffee).\nDiese beiden Tage sind öffentlich\, ab
 er anmeldepflichtig (Anmelde-schluss bis spätestens Donnerstag\, 08.02.202
 4 im Pfarramt Galgenen).\n\nAm Samstag\, 17. und Sonntag\, 18. Februar\, w
 erden wir jeweils nach dem Gottesdienst (mit Präsentation ASHIA) im Martin
 s-Träff ein einfaches\, aber gemütliches Suppenzmittag zu Gunsten ASHIA Hi
 lfswerk anbieten (Fastensuppe\, Brot\, Wasser\, Tee\, Sirup\, Kaffee\, Kuc
 hen). Für diese beiden Tage ist keine Anmeldung nötig.\n\nWir freuen uns\,
  wenn viele Besucherinnen und Besucher dieser Einladung Folge leisten\, in
  Solidarität auch mit allen\, die es weniger gut haben als wir!\n\nKirchen
 rat & Seelsorgeteam Galgenen\n 
DTSTART:20240215T113000
DTEND:20240216T170000
ORGANIZER:MAILTO:Pfarrei Galgenen <sekretariat@kg-galgenen.ch>
SUMMARY:Suppentage in Galgenen
END:VEVENT
END:VCALENDAR
