BEGIN:VCALENDAR
VERSION:2.0
PRODID:-//Pfarrei Galgenen//NONSGML kigkonsult.se iCalcreator 2.16.12//
METHOD:PUBLISH
X-MS-OLK-FORCEINSPECTOROPEN:TRUE
BEGIN:VEVENT
UID:20260420T111245CEST-2683PVN35B@Pfarrei Galgenen
DTSTAMP:20260420T091245Z
DESCRIPTION:Einsiedeln\, in der Jugendkirche\nKonzert des Kirchenchors Galg
 enen mit der camerata cantabile\n «MISSA PRO DEFUNCTIS Requiem FRANZ VON S
 UPPÈ»\n 
DTSTART:20240316T190000
DTEND:20240316T200000
ORGANIZER:MAILTO:Pfarrei Galgenen <sekretariat@kg-galgenen.ch>
SUMMARY:Konzert Kirchenchor in Einsiedeln
END:VEVENT
END:VCALENDAR
