BEGIN:VCALENDAR
VERSION:2.0
PRODID:-//Pfarrei Galgenen//NONSGML kigkonsult.se iCalcreator 2.16.12//
METHOD:PUBLISH
X-MS-OLK-FORCEINSPECTOROPEN:TRUE
BEGIN:VEVENT
UID:20260420T111244CEST-6858d7GM8R@Pfarrei Galgenen
DTSTAMP:20260420T091244Z
DESCRIPTION:Konzert des Kirchenchors Galgenen in der Pfarrkirche St. Martin
   \nmit der camerata cantabile «MISSA PRO DEFUNCTIS Requiem FRANZ VON SUPP
 È»
DTSTART:20240317T170000
DTEND:20240317T183000
ORGANIZER:MAILTO:Pfarrei Galgenen <sekretariat@kg-galgenen.ch>
SUMMARY:Konzert Kirchenchor  in Galgenen 
END:VEVENT
END:VCALENDAR
