BEGIN:VCALENDAR
VERSION:2.0
PRODID:-//Pfarrei Galgenen//NONSGML kigkonsult.se iCalcreator 2.16.12//
METHOD:PUBLISH
X-MS-OLK-FORCEINSPECTOROPEN:TRUE
BEGIN:VEVENT
UID:20260420T110951CEST-6250eeJXxv@Pfarrei Galgenen
DTSTAMP:20260420T090951Z
DESCRIPTION:Gottesdienst in der Pfarrkirche St. Martin
DTSTART:20240319T093000
DTEND:20240319T103000
ORGANIZER:MAILTO:Pfarrei Galgenen <sekretariat@kg-galgenen.ch>
SUMMARY:Josefstag
END:VEVENT
END:VCALENDAR
