BEGIN:VCALENDAR
VERSION:2.0
PRODID:-//Pfarrei Galgenen//NONSGML kigkonsult.se iCalcreator 2.16.12//
METHOD:PUBLISH
X-MS-OLK-FORCEINSPECTOROPEN:TRUE
BEGIN:VEVENT
UID:20260422T110511CEST-5623T3Jgsz@Pfarrei Galgenen
DTSTAMP:20260422T090511Z
DESCRIPTION:Abendmahlsfeier mitgestaltet von den diesjährigen Erstkommunika
 nten.\n 
DTSTART:20240328T180000
DTEND:20240328T190000
ORGANIZER:MAILTO:Pfarrei Galgenen <sekretariat@kg-galgenen.ch>
SUMMARY:Gründonnerstag 
END:VEVENT
END:VCALENDAR
