BEGIN:VCALENDAR
VERSION:2.0
PRODID:-//Pfarrei Galgenen//NONSGML kigkonsult.se iCalcreator 2.16.12//
METHOD:PUBLISH
X-MS-OLK-FORCEINSPECTOROPEN:TRUE
BEGIN:VEVENT
UID:20260420T125758CEST-0770VUtitn@Pfarrei Galgenen
DTSTAMP:20260420T105758Z
DESCRIPTION:Kein Gottesdienst um 9.30 Uhr!\n        \n15.00 Uhr Karfreitags
 liturgie zum Leiden und Sterben Christi\,\nOhne Kommunionspendung\n 
DTSTART:20240329T150000
DTEND:20240329T160000
ORGANIZER:MAILTO:Pfarrei Galgenen <sekretariat@kg-galgenen.ch>
SUMMARY:Karfreitag 
END:VEVENT
END:VCALENDAR
