BEGIN:VCALENDAR
VERSION:2.0
PRODID:-//Pfarrei Galgenen//NONSGML kigkonsult.se iCalcreator 2.16.12//
METHOD:PUBLISH
X-MS-OLK-FORCEINSPECTOROPEN:TRUE
BEGIN:VEVENT
UID:20260420T130611CEST-5324HW9Gre@Pfarrei Galgenen
DTSTAMP:20260420T110611Z
DESCRIPTION:6.00 Uhr Auferstehungsfeier\nTreffpunkt: Osterfeuer vor der Fri
 edhofskapelle\, Einzug in die Pfarrkirche.\nIm Anschluss „Eiertütschen“ im
  Martins-Träff\n 
DTSTART:20240331T060000
DTEND:20240331T070000
ORGANIZER:MAILTO:Pfarrei Galgenen <sekretariat@kg-galgenen.ch>
SUMMARY:Ostersonntag 
END:VEVENT
END:VCALENDAR
