BEGIN:VCALENDAR
VERSION:2.0
PRODID:-//Pfarrei Galgenen//NONSGML kigkonsult.se iCalcreator 2.16.12//
METHOD:PUBLISH
X-MS-OLK-FORCEINSPECTOROPEN:TRUE
BEGIN:VEVENT
UID:20260420T125855CEST-3447W5ifHA@Pfarrei Galgenen
DTSTAMP:20260420T105855Z
DESCRIPTION:9.30 Uhr Festgottesdienst unter Mitwirkung unseres Kirchenchors
 \n 
DTSTART:20240331T093000
DTEND:20240331T103000
ORGANIZER:MAILTO:Pfarrei Galgenen <sekretariat@kg-galgenen.ch>
SUMMARY:Ostersonntag
END:VEVENT
END:VCALENDAR
