BEGIN:VCALENDAR
VERSION:2.0
PRODID:-//Pfarrei Galgenen//NONSGML kigkonsult.se iCalcreator 2.16.12//
METHOD:PUBLISH
X-MS-OLK-FORCEINSPECTOROPEN:TRUE
BEGIN:VEVENT
UID:20260420T124822CEST-8238atGbvS@Pfarrei Galgenen
DTSTAMP:20260420T104822Z
DESCRIPTION:Eucharistiefeier ohne Predigt\, in der Pfarrkirche 
DTSTART:20240401T093000
DTEND:20240401T100000
ORGANIZER:MAILTO:Pfarrei Galgenen <sekretariat@kg-galgenen.ch>
SUMMARY:Ostermontag
END:VEVENT
END:VCALENDAR
