BEGIN:VCALENDAR
VERSION:2.0
PRODID:-//Pfarrei Galgenen//NONSGML kigkonsult.se iCalcreator 2.16.12//
METHOD:PUBLISH
X-MS-OLK-FORCEINSPECTOROPEN:TRUE
BEGIN:VEVENT
UID:20260420T124747CEST-7820oTckIu@Pfarrei Galgenen
DTSTAMP:20260420T104747Z
DESCRIPTION:Kein Gottesdienst um 9.30 Uhr!\n\n16.00 Uhr Firmung der 6. Klas
 sen mit Bischof Joseph Maria Bonnemain\,\nApero nach dem Festgottesdienst\
 , umrahmt vom Musikverein Galgenen.\n 
DTSTART:20240413T160000
DTEND:20240413T173000
ORGANIZER:MAILTO:Pfarrei Galgenen <sekretariat@kg-galgenen.ch>
SUMMARY:Firmung 
END:VEVENT
END:VCALENDAR
