BEGIN:VCALENDAR
VERSION:2.0
PRODID:-//Pfarrei Galgenen//NONSGML kigkonsult.se iCalcreator 2.16.12//
METHOD:PUBLISH
X-MS-OLK-FORCEINSPECTOROPEN:TRUE
BEGIN:VEVENT
UID:20260422T111548CEST-50542IRx41@Pfarrei Galgenen
DTSTAMP:20260422T091548Z
DESCRIPTION:Die 3. Klassen feiern ihre Erstkommunion.\nApero nach dem Festg
 ottesdienst\, umrahmt vom Musikverein Galgenen\n 
DTSTART:20240421T093000
DTEND:20240421T103000
ORGANIZER:MAILTO:Pfarrei Galgenen <sekretariat@kg-galgenen.ch>
SUMMARY:Erstkommunion 
END:VEVENT
END:VCALENDAR
