BEGIN:VCALENDAR
VERSION:2.0
PRODID:-//Pfarrei Galgenen//NONSGML kigkonsult.se iCalcreator 2.16.12//
METHOD:PUBLISH
X-MS-OLK-FORCEINSPECTOROPEN:TRUE
BEGIN:VEVENT
UID:20260420T111417CEST-6737odoDvW@Pfarrei Galgenen
DTSTAMP:20260420T091417Z
DESCRIPTION:Predigtgespräch: Br. Patrik mit Br. Liman Nayak\, Kapuziner aus
  Indien\, wohnhaft im Kloster Rapperswil.\n 
DTSTART:20240505T093000
DTEND:20240505T103000
ORGANIZER:MAILTO:Pfarrei Galgenen <sekretariat@kg-galgenen.ch>
SUMMARY:Gottesdienst mit Predigtgespräch
END:VEVENT
END:VCALENDAR
