BEGIN:VCALENDAR
VERSION:2.0
PRODID:-//Pfarrei Galgenen//NONSGML kigkonsult.se iCalcreator 2.16.12//
METHOD:PUBLISH
X-MS-OLK-FORCEINSPECTOROPEN:TRUE
BEGIN:VEVENT
UID:20260420T144823CEST-9334aBlwx9@Pfarrei Galgenen
DTSTAMP:20260420T124823Z
DESCRIPTION:Eucharistsiefeier zu Christi Himmelfahrt\n 
DTSTART:20240509T093000
DTEND:20240509T103000
ORGANIZER:MAILTO:Pfarrei Galgenen <sekretariat@kg-galgenen.ch>
SUMMARY:Christi Himmelfahrt 
END:VEVENT
END:VCALENDAR
