BEGIN:VCALENDAR
VERSION:2.0
PRODID:-//Pfarrei Galgenen//NONSGML kigkonsult.se iCalcreator 2.16.12//
METHOD:PUBLISH
X-MS-OLK-FORCEINSPECTOROPEN:TRUE
BEGIN:VEVENT
UID:20260420T111417CEST-0457iuES4j@Pfarrei Galgenen
DTSTAMP:20260420T091417Z
DESCRIPTION:Maiandacht mit Br. Patrik\, an Christi Himmelfahrt in der Maria
  Immerhilf Kapelle.\nMusikalisch begleitet von Stefan Kessler am Akkordeon
 .\nAchtung: Bei schlechter Witterung entfällt die Andacht!\n 
DTSTART:20240509T193000
DTEND:20240509T200000
ORGANIZER:MAILTO:Pfarrei Galgenen <sekretariat@kg-galgenen.ch>
SUMMARY:Maiandacht bei der Maria Immerhilf Kapelle
END:VEVENT
END:VCALENDAR
