BEGIN:VCALENDAR
VERSION:2.0
PRODID:-//Pfarrei Galgenen//NONSGML kigkonsult.se iCalcreator 2.16.12//
METHOD:PUBLISH
X-MS-OLK-FORCEINSPECTOROPEN:TRUE
BEGIN:VEVENT
UID:20260420T110917CEST-0688glbtIB@Pfarrei Galgenen
DTSTAMP:20260420T090917Z
DESCRIPTION:Muttertags-Gottesdienst\, musikalisch mitgestaltet vom «Chörli 
 us de March»\n\n 
DTSTART:20240512T093000
DTEND:20240512T103000
ORGANIZER:MAILTO:Pfarrei Galgenen <sekretariat@kg-galgenen.ch>
SUMMARY:Muttertag 
END:VEVENT
END:VCALENDAR
