BEGIN:VCALENDAR
VERSION:2.0
PRODID:-//Pfarrei Galgenen//NONSGML kigkonsult.se iCalcreator 2.16.12//
METHOD:PUBLISH
X-MS-OLK-FORCEINSPECTOROPEN:TRUE
BEGIN:VEVENT
UID:20260420T111417CEST-62190aJAew@Pfarrei Galgenen
DTSTAMP:20260420T091417Z
DESCRIPTION:Pfingstsonntag Festgottesdienst\, musikalisch begleitet vom Kir
 chenchor\n 
DTSTART:20240519T093000
DTEND:20240519T103000
ORGANIZER:MAILTO:Pfarrei Galgenen <sekretariat@kg-galgenen.ch>
SUMMARY:Pfingsten 
END:VEVENT
END:VCALENDAR
