BEGIN:VCALENDAR
VERSION:2.0
PRODID:-//Pfarrei Galgenen//NONSGML kigkonsult.se iCalcreator 2.16.12//
METHOD:PUBLISH
X-MS-OLK-FORCEINSPECTOROPEN:TRUE
BEGIN:VEVENT
UID:20260420T111055CEST-5424GaFjXS@Pfarrei Galgenen
DTSTAMP:20260420T091055Z
DESCRIPTION:Eucharistiefeier in der Pfarrkirche St. Martin\,\nmitgestaltet 
 von den diesjährigen Erstkommunikanten/-innen.\n\n 
DTSTART:20240530T093000
DTEND:20240530T103000
ORGANIZER:MAILTO:Pfarrei Galgenen <sekretariat@kg-galgenen.ch>
SUMMARY:Fronleichnam 
END:VEVENT
END:VCALENDAR
