BEGIN:VCALENDAR
VERSION:2.0
PRODID:-//Pfarrei Galgenen//NONSGML kigkonsult.se iCalcreator 2.16.12//
METHOD:PUBLISH
X-MS-OLK-FORCEINSPECTOROPEN:TRUE
BEGIN:VEVENT
UID:20260420T124644CEST-63713SD1nb@Pfarrei Galgenen
DTSTAMP:20260420T104644Z
DESCRIPTION:Maiandacht mit Corinne Mäder\, mitgestaltet von der FMG\, musik
 alisch begleitet von der Familie Suter
DTSTART:20240516T193000
DTEND:20240516T200000
ORGANIZER:MAILTO:Pfarrei Galgenen <sekretariat@kg-galgenen.ch>
SUMMARY:Maiandacht in der Jostenkapelle\, mit der FMG
END:VEVENT
END:VCALENDAR
