BEGIN:VCALENDAR
VERSION:2.0
PRODID:-//Pfarrei Galgenen//NONSGML kigkonsult.se iCalcreator 2.16.12//
METHOD:PUBLISH
X-MS-OLK-FORCEINSPECTOROPEN:TRUE
BEGIN:VEVENT
UID:20260420T123011CEST-9436CGmVJk@Pfarrei Galgenen
DTSTAMP:20260420T103011Z
DESCRIPTION:Maiandacht mit Br. Patrik\, musikalisch begleitet von Werni Kes
 sler
DTSTART:20240523T193000
DTEND:20240523T200000
ORGANIZER:MAILTO:Pfarrei Galgenen <sekretariat@kg-galgenen.ch>
SUMMARY:Maiandacht in der Jostenkapelle 
END:VEVENT
END:VCALENDAR
