BEGIN:VCALENDAR
VERSION:2.0
PRODID:-//Pfarrei Galgenen//NONSGML kigkonsult.se iCalcreator 2.16.12//
METHOD:PUBLISH
X-MS-OLK-FORCEINSPECTOROPEN:TRUE
BEGIN:VEVENT
UID:20260420T111057CEST-3698zBsVEZ@Pfarrei Galgenen
DTSTAMP:20260420T091057Z
DESCRIPTION:Kein Gottesdienst um 9.30 Uhr in Galgenen!\n\nÖkumenischer Gott
 esdienst in der ref. Pfarrkirche in Siebnen\, gestaltet vom\nreformierten 
 Pfarrer Peter Ruch und unserem Bruder Patrik Schäfli.\nEin musikalischer L
 eckerbissen wird sicher die gemeinsame musikalische Begleitung des \nref. 
 Kirchenchor March und unserem Kirchenchor aus Galgenen sein.\n 
DTSTART:20240623T100000
DTEND:20240623T110000
ORGANIZER:MAILTO:Pfarrei Galgenen <sekretariat@kg-galgenen.ch>
SUMMARY:Ökumenischer Gottesdienst in Siebnen
END:VEVENT
END:VCALENDAR
