BEGIN:VCALENDAR
VERSION:2.0
PRODID:-//Pfarrei Galgenen//NONSGML kigkonsult.se iCalcreator 2.16.12//
METHOD:PUBLISH
X-MS-OLK-FORCEINSPECTOROPEN:TRUE
BEGIN:VEVENT
UID:20260420T111207CEST-5921nUmxSM@Pfarrei Galgenen
DTSTAMP:20260420T091207Z
DESCRIPTION:Ökumenischer Schulschluss Gottesdienst mit Corinne Mäder\, Anne
 marie Gisin und Alex Mörgeli. Ohne Eucharistiefeier!\nDie Feier ist öffent
 lich.\n 
DTSTART:20240701T081000
DTEND:20240701T090000
ORGANIZER:MAILTO:Pfarrei Galgenen <sekretariat@kg-galgenen.ch>
SUMMARY:Ökumenischer Schulschluss-Gottesdienst 
END:VEVENT
END:VCALENDAR
