BEGIN:VCALENDAR
VERSION:2.0
PRODID:-//Pfarrei Galgenen//NONSGML kigkonsult.se iCalcreator 2.16.12//
METHOD:PUBLISH
X-MS-OLK-FORCEINSPECTOROPEN:TRUE
BEGIN:VEVENT
UID:20260420T111056CEST-5150fOmSsO@Pfarrei Galgenen
DTSTAMP:20260420T091056Z
DESCRIPTION:Berggottesdienst im Tannligarten mit dem Alphorntrio Stockberg-
 Echo.\nDie KAB Galgenen wird diesen Anlass zum letzten Mal durchführen!\nB
 ei schlechtem Wetter:\nGottesdienst um 09.30 Uhr in der Pfarrkirche. Das G
 lockenzeichen um 08.00 Uhr bedeutet Durchführung im Tannligarten.\nEbenfal
 ls Auskunft gibt:\nAdelbert Hüppin (N: 079 902 90 37).\nFür eine allfällig
 e Fahrgelegenheit melden Sie sich im Sekretariat.\n 
DTSTART:20240721T103000
DTEND:20240721T113000
ORGANIZER:MAILTO:Pfarrei Galgenen <sekretariat@kg-galgenen.ch>
SUMMARY:Tannligarten-Gottesdienst 
END:VEVENT
END:VCALENDAR
