BEGIN:VCALENDAR
VERSION:2.0
PRODID:-//Pfarrei Galgenen//NONSGML kigkonsult.se iCalcreator 2.16.12//
METHOD:PUBLISH
X-MS-OLK-FORCEINSPECTOROPEN:TRUE
BEGIN:VEVENT
UID:20260424T105437CEST-0560C9s6Rv@Pfarrei Galgenen
DTSTAMP:20260424T085437Z
DESCRIPTION:Alpgottesdienst mit Br. Patrik Schäfli. Die nur bei schönem Wet
 ter stattfindende Eucharistiefeier wird vom Alphorntrio Stockbergecho umra
 hmt und geprägt von Gedanken Gutes zu tun.\nJedes Jahr geht der gesamte Er
 lös an eine wohltätige Institution. Dieses Jahr ist es die Sternschnuppe w
 elche sich das Ziel setzt\, schwerkranken Kindern ein Wunsch zu erfüllen..
 \nEine kleine Festwirtschaft sorgt für das leibliche Wohl der Besucher.\nB
 ei zweifelhafter Witterung gibt die Telefonnummer 079/385 14 47 am 14.07.2
 024 ab 08.00 Uhr Auskunft über die Durchführung.\n\nDie Alp Brunnen ist vo
 n Siebnen oder Galgenen her über Vorderberg-Staldenhöhe gut erreichbar. Ab
  der Höhe Gusöteli wird der Weg signalisiert sein.\nWir freuen uns auf ein
 en gemütlichen Anlass. Bis bald bei uns auf der Alp!                      
         \nFam. Ziegler und das Helfer-Team.\n 
DTSTART:20240714T110000
DTEND:20240714T120000
ORGANIZER:MAILTO:Pfarrei Galgenen <sekretariat@kg-galgenen.ch>
SUMMARY:Gottesdienst auf der Alp Brunnen 
END:VEVENT
END:VCALENDAR
