BEGIN:VCALENDAR
VERSION:2.0
PRODID:-//Pfarrei Galgenen//NONSGML kigkonsult.se iCalcreator 2.16.12//
METHOD:PUBLISH
X-MS-OLK-FORCEINSPECTOROPEN:TRUE
BEGIN:VEVENT
UID:20260420T105512CEST-1813HdDltD@Pfarrei Galgenen
DTSTAMP:20260420T085512Z
DESCRIPTION:Beachte: Am Nationalfeiertag feiern wir keinen Gottesdienst!
DTSTART:20240801T000000
DTEND:20240801T000000
ORGANIZER:MAILTO:Pfarrei Galgenen <sekretariat@kg-galgenen.ch>
SUMMARY:ACHTUNG: Kein Gottesdienst!
END:VEVENT
END:VCALENDAR
