BEGIN:VCALENDAR
VERSION:2.0
PRODID:-//Pfarrei Galgenen//NONSGML kigkonsult.se iCalcreator 2.16.12//
METHOD:PUBLISH
X-MS-OLK-FORCEINSPECTOROPEN:TRUE
BEGIN:VEVENT
UID:20260420T111054CEST-931279hDru@Pfarrei Galgenen
DTSTAMP:20260420T091054Z
DESCRIPTION:09.30 Uhr:   Gottesdienst mit P. Robert Camenzind aus Noulen\n 
        \n19.30 Uhr     Andacht bei der Maria Immerhilfkapelle\, musikalisc
 h begleitet von Werni Kessler\n                        Nur bei günstiger W
 itterung\, Auskunft Fam. Schwyter-Mächler\, Tel. 055 440 54 91\n 
DTSTART:20240815T000000
DTEND:20240815T000000
ORGANIZER:MAILTO:Pfarrei Galgenen <sekretariat@kg-galgenen.ch>
SUMMARY:Maria Himmelfahrt 
END:VEVENT
END:VCALENDAR
