BEGIN:VCALENDAR
VERSION:2.0
PRODID:-//Pfarrei Galgenen//NONSGML kigkonsult.se iCalcreator 2.16.12//
METHOD:PUBLISH
X-MS-OLK-FORCEINSPECTOROPEN:TRUE
BEGIN:VEVENT
UID:20260420T111238CEST-8489kGXm4G@Pfarrei Galgenen
DTSTAMP:20260420T091238Z
DESCRIPTION:Das Glockenzeichen um 8.00 Uhr bedeutet Durchführung beim Grabe
 neggkreuz.\nEbenfalls Auskunft gibt: Adelbert Hüppin (N: 079 902 90 37).\n
 Für eine allfällige Fahrgelegenheit melden Sie sich im Sekretariat.\n\nBei
  schlechtem Wetter:\nGottesdienst im gleichen Rahmen um 9.30 Uhr in der Pf
 arrkirche.\n\n 
DTSTART:20240818T103000
DTEND:20240818T113000
ORGANIZER:MAILTO:Pfarrei Galgenen <sekretariat@kg-galgenen.ch>
SUMMARY:Berggottesdienst beim Grabenegg-Kreuz
END:VEVENT
END:VCALENDAR
