BEGIN:VCALENDAR
VERSION:2.0
PRODID:-//Pfarrei Galgenen//NONSGML kigkonsult.se iCalcreator 2.16.12//
METHOD:PUBLISH
X-MS-OLK-FORCEINSPECTOROPEN:TRUE
BEGIN:VEVENT
UID:20260420T111341CEST-3938WxMpIR@Pfarrei Galgenen
DTSTAMP:20260420T091341Z
DESCRIPTION:Familiengottesdienst\nSegensfeier mit den 1. Klassen\, gestalte
 t von Katechetin Jolanda Schnorf gemeinsam mit den Kindern.\n\n 
DTSTART:20240825T093000
DTEND:20240825T103000
ORGANIZER:MAILTO:Pfarrei Galgenen <sekretariat@kg-galgenen.ch>
SUMMARY:Segensfeier mit den 1. Klassen von Galgenen
END:VEVENT
END:VCALENDAR
