BEGIN:VCALENDAR
VERSION:2.0
PRODID:-//Pfarrei Galgenen//NONSGML kigkonsult.se iCalcreator 2.16.12//
METHOD:PUBLISH
X-MS-OLK-FORCEINSPECTOROPEN:TRUE
BEGIN:VEVENT
UID:20260420T111417CEST-3568z8sE4V@Pfarrei Galgenen
DTSTAMP:20260420T091417Z
DESCRIPTION:In diesem Gottesdienst werden unsere zwei neuen Ministranten fe
 ierlich in ihren Dienst aufgenommen.\nIm Anschluss an den Gottesdienst füh
 ren unsere Minis im Martins-Träff ein „Chiläkafi“.\n 
DTSTART:20240922T093000
DTEND:20240922T103000
ORGANIZER:MAILTO:Pfarrei Galgenen <sekretariat@kg-galgenen.ch>
SUMMARY:Ministranten werden in den Dienst aufgenommen
END:VEVENT
END:VCALENDAR
