BEGIN:VCALENDAR
VERSION:2.0
PRODID:-//Pfarrei Galgenen//NONSGML kigkonsult.se iCalcreator 2.16.12//
METHOD:PUBLISH
X-MS-OLK-FORCEINSPECTOROPEN:TRUE
BEGIN:VEVENT
UID:20260420T105402CEST-9572jaMfVl@Pfarrei Galgenen
DTSTAMP:20260420T085402Z
DESCRIPTION:Kein Gottesdienst um 9.30 Uhr!\n\nUm 14.00 Uhr  Festgottesdiens
 t mit anschliessendem Gräberbesuch\, musikalisch umrahmt von den Kantoren.
 \nNach dem Gräberbesuch wird im Martins-Träff für alle eine „Kafistubä“ ge
 führt.\n 
DTSTART:20241013T140000
DTEND:20241013T150000
ORGANIZER:MAILTO:Pfarrei Galgenen <sekretariat@kg-galgenen.ch>
SUMMARY:Chilbisonntag mit Kafistubä im Martins-Träff
END:VEVENT
END:VCALENDAR
