BEGIN:VCALENDAR
VERSION:2.0
PRODID:-//Pfarrei Galgenen//NONSGML kigkonsult.se iCalcreator 2.16.12//
METHOD:PUBLISH
X-MS-OLK-FORCEINSPECTOROPEN:TRUE
BEGIN:VEVENT
UID:20260420T110917CEST-6227V9xJE1@Pfarrei Galgenen
DTSTAMP:20260420T090917Z
DESCRIPTION:Familiengottesdienst unter der Mitwirkung der Märchler Trachtäl
 üt.\nIm Anschluss an den Gottesdienst serviert die Bauernvereinigung einen
  feinen Apero.\n 
DTSTART:20241020T093000
DTEND:20241020T110000
ORGANIZER:MAILTO:Pfarrei Galgenen <sekretariat@kg-galgenen.ch>
SUMMARY:Erntedank-Gottesdienst 
END:VEVENT
END:VCALENDAR
