BEGIN:VCALENDAR
VERSION:2.0
PRODID:-//Pfarrei Galgenen//NONSGML kigkonsult.se iCalcreator 2.16.12//
METHOD:PUBLISH
X-MS-OLK-FORCEINSPECTOROPEN:TRUE
BEGIN:VEVENT
UID:20260420T111250CEST-25659M6zxs@Pfarrei Galgenen
DTSTAMP:20260420T091250Z
DESCRIPTION:Dekoriert und mitgestaltet von unseren Ministranten/Ministranti
 nnen\nEin Familiengottesdienst für alle\n 
DTSTART:20241026T183000
DTEND:20241026T193000
ORGANIZER:MAILTO:Pfarrei Galgenen <sekretariat@kg-galgenen.ch>
SUMMARY:Halloween-Gottesdienst 
END:VEVENT
END:VCALENDAR
