BEGIN:VCALENDAR
VERSION:2.0
PRODID:-//Pfarrei Galgenen//NONSGML kigkonsult.se iCalcreator 2.16.12//
METHOD:PUBLISH
X-MS-OLK-FORCEINSPECTOROPEN:TRUE
BEGIN:VEVENT
UID:20260420T111238CEST-6435NAK8rN@Pfarrei Galgenen
DTSTAMP:20260420T091238Z
DESCRIPTION:Kein Gottesdienst um 9.30 Uhr!\n14.00 Uhr Gottesdienst unter Mi
 twirkung des Kirchenchors\, musikalisch begleitet von Fabienne Bisig und A
 ndreas Diethelm\,\nanschliessend Gräberbesuch und „Kafistubä“ im Martins-T
 räff\n 
DTSTART:20241101T140000
DTEND:20241101T150000
ORGANIZER:MAILTO:Pfarrei Galgenen <sekretariat@kg-galgenen.ch>
SUMMARY:Allerheiligen 
END:VEVENT
END:VCALENDAR
