BEGIN:VCALENDAR
VERSION:2.0
PRODID:-//Pfarrei Galgenen//NONSGML kigkonsult.se iCalcreator 2.16.12//
METHOD:PUBLISH
X-MS-OLK-FORCEINSPECTOROPEN:TRUE
BEGIN:VEVENT
UID:20260420T111417CEST-3914aEomhU@Pfarrei Galgenen
DTSTAMP:20260420T091417Z
DESCRIPTION:Festgottesdienst\, musikalisch begleitet von Andreas Diethelm u
 nd Urban Huber\n Anschliessend „Chiläkafi“ im Martins-Träff  \n 
DTSTART:20241110T093000
DTEND:20241110T103000
ORGANIZER:MAILTO:Pfarrei Galgenen <sekretariat@kg-galgenen.ch>
SUMMARY:Patrozinium St. Martin 
END:VEVENT
END:VCALENDAR
