BEGIN:VCALENDAR
VERSION:2.0
PRODID:-//Pfarrei Galgenen//NONSGML kigkonsult.se iCalcreator 2.16.12//
METHOD:PUBLISH
X-MS-OLK-FORCEINSPECTOROPEN:TRUE
BEGIN:VEVENT
UID:20260420T111417CEST-68527MDTHD@Pfarrei Galgenen
DTSTAMP:20260420T091417Z
DESCRIPTION:Öffentliche Eucharistiefeier unter Mitwirkung der FMG\, Frauen-
  und Müttergemeinschaft Galgenen. \nIm Anschluss serviert die FMG im Marti
 ns-Träff Kafi und Gipfeli.\n 
DTSTART:20241115T093000
DTEND:20241115T103000
ORGANIZER:MAILTO:Pfarrei Galgenen <sekretariat@kg-galgenen.ch>
SUMMARY:Elisabethenmesse 
END:VEVENT
END:VCALENDAR
