BEGIN:VCALENDAR
VERSION:2.0
PRODID:-//Pfarrei Galgenen//NONSGML kigkonsult.se iCalcreator 2.16.12//
METHOD:PUBLISH
X-MS-OLK-FORCEINSPECTOROPEN:TRUE
BEGIN:VEVENT
UID:20260420T130554CEST-5839F5n35x@Pfarrei Galgenen
DTSTAMP:20260420T110554Z
DESCRIPTION:19.00 Uhr Sternstunde in der Kirche\, herzliche Einladung für G
 ross und Klein.\nZusammen mit Abraham machen wir uns auf den Weg und erfah
 ren mit allen Sinnen: Gott du gehst mit. Du bist da und verlässt uns nicht
 .\nIm Anschluss werden bei gemütlichen Beisammensein Sterne für unsere Kir
 chendekoration gestaltet\, mit Christina Mariño\n 
DTSTART:20241128T190000
DTEND:20241128T200000
ORGANIZER:MAILTO:Pfarrei Galgenen <sekretariat@kg-galgenen.ch>
SUMMARY:Sternstunde 
END:VEVENT
END:VCALENDAR
