BEGIN:VCALENDAR
VERSION:2.0
PRODID:-//Pfarrei Galgenen//NONSGML kigkonsult.se iCalcreator 2.16.12//
METHOD:PUBLISH
X-MS-OLK-FORCEINSPECTOROPEN:TRUE
BEGIN:VEVENT
UID:20260422T111533CEST-8526P5LbcR@Pfarrei Galgenen
DTSTAMP:20260422T091533Z
DESCRIPTION:Kirchgemeinde-Versammlung im Martins-Träff\nmit einem „Ständli“
  des Kirchenchors Galgenen.\n 
DTSTART:20241125T200000
DTEND:20241125T220000
ORGANIZER:MAILTO:Pfarrei Galgenen <sekretariat@kg-galgenen.ch>
SUMMARY:Kirchgemeinde-Versammlung 
END:VEVENT
END:VCALENDAR
