BEGIN:VCALENDAR
VERSION:2.0
PRODID:-//Pfarrei Galgenen//NONSGML kigkonsult.se iCalcreator 2.16.12//
METHOD:PUBLISH
X-MS-OLK-FORCEINSPECTOROPEN:TRUE
BEGIN:VEVENT
UID:20260422T111712CEST-7575LXRkvE@Pfarrei Galgenen
DTSTAMP:20260422T091712Z
DESCRIPTION:In diesem Familiengottesdienst wird der Hirt Elay gut ausgerüst
 et mit Adventsgeschichten\,\nSpiel- und Bastelieeden auf den Weg geschickt
  und begleitet verschiedene Familien durch die Adventszeit. \n 
DTSTART:20241201T103000
DTEND:20241201T103000
ORGANIZER:MAILTO:Pfarrei Galgenen <sekretariat@kg-galgenen.ch>
SUMMARY:Erster Adventssonntag 
END:VEVENT
END:VCALENDAR
