BEGIN:VCALENDAR
VERSION:2.0
PRODID:-//Pfarrei Galgenen//NONSGML kigkonsult.se iCalcreator 2.16.12//
METHOD:PUBLISH
X-MS-OLK-FORCEINSPECTOROPEN:TRUE
BEGIN:VEVENT
UID:20260422T110402CEST-0365m9j02k@Pfarrei Galgenen
DTSTAMP:20260422T090402Z
DESCRIPTION:Sie sind herzlich eingeladen\, gemeinsam mit den Schülern das t
 raditionelle\, frühmorgendliche Lichterfest zu feiern.\nFür das anschliess
 ende Frühstück im Martins-Träff bitten wir um ihre Anmeldung bis spätesten
 s 02. Dezember 2024\n 
DTSTART:20241204T063000
DTEND:20241204T080000
ORGANIZER:MAILTO:Pfarrei Galgenen <sekretariat@kg-galgenen.ch>
SUMMARY:Rorate mit den 5./6. Religionsklassen
END:VEVENT
END:VCALENDAR
